Workbook

Sheet Cover
B5: EMERGENT BIOSOLUTIONS INC.
B7: Last updated on: | C7: 43049
B9: By: | C9: Kevin Yulianto
C10: kevin.yulianto@mail.mcgill.ca

Sheet Financial Statements
B1: EMERGENT BIOSOLUTIONS INC. | AH1: EMERGENT BIOSOLUTIONS INC.
B3: (in thousands USD) | D3: 2012 | F3: 2013 | H3: 2014 | J3: 2015 | L3: 2016 | N3: 2017F | P3: 2018F | R3: 2019F | T3: 2020F | V3: 2021F | X3: 2022F | Z3: 2023F | AB3: 2024F | AD3: 2025F | AH3: (as % of Revenue or Asset) | AJ3: 2012 | AL3: 2013 | AN3: 2014 | AP3: 2015 | AR3: 2016 | AT3: 2017F | AV3: 2018F | AX3: 2019F | AZ3: 2020F | BB3: 2021F | BD3: 2022F | BF3: 2023F | BH3: 2024F | BJ3: 2025F
B5: Income Statement | AH5: Common Size Income Statement
B6: Revenues | AH6: Revenues
B7: Product Sales | D7: 215879 | F7: 257922 | H7: 281845 | J7: 328969 | L7: 296278 | N7: ='IS Modelling'!N28 -> 392536 | P7: ='IS Modelling'!P28 -> 544720 | R7: ='IS Modelling'!R28 -> 689482 | T7: ='IS Modelling'!T28 -> 716551.1 | V7: ='IS Modelling'!V28 -> 769723.66 | X7: ='IS Modelling'!X28 -> 833204.84 | Z7: ='IS Modelling'!Z28 -> 726840.08 | AB7: ='IS Modelling'!AB28 -> 723419.08 | AD7: ='IS Modelling'!AD28 -> 724530.24 | AH7: Product Sales | AJ7: =D7/D$10 -> 0.77664933 | AL7: =F7/F$10 -> 0.82470383 | AN7: =H7/H$10 -> 0.69683237 | AP7: =J7/J$10 -> 0.67228318 | AR7: =L7/L$10 -> 0.60615571 | AT7: =N7/N$10 -> 0.70141645 | AV7: =P7/P$10 -> 0.71490585 | AX7: =R7/R$10 -> 0.71721205 | AZ7: =T7/T$10 -> 0.69134985 | BB7: =V7/V$10 -> 0.68096811 | BD7: =X7/X$10 -> 0.67746849 | BF7: =Z7/Z$10 -> 0.62487187 | BH7: =AB7/AB$10 -> 0.6122479 | BJ7: =AD7/AD$10 -> 0.60097174
B8: Contract Manufacturing | D8: 0 | F8: 0 | H8: 30944 | J8: 42968 | L8: 49138 | N8: ='IS Modelling'!N29 -> 81077.7 | P8: ='IS Modelling'!P29 -> 105401.01 | R8: ='IS Modelling'!R29 -> 126481.21 | T8: ='IS Modelling'!T29 -> 145453.39 | V8: ='IS Modelling'!V29 -> 159998.73 | X8: ='IS Modelling'!X29 -> 175998.61 | Z8: ='IS Modelling'!Z29 -> 193598.47 | AB8: ='IS Modelling'!AB29 -> 203278.39 | AD8: ='IS Modelling'!AD29 -> 213442.31 | AH8: Contract Manufacturing | AJ8: =D8/D$10 -> 0 | AL8: =F8/F$10 -> 0 | AN8: =H8/H$10 -> 0.076505813 | AP8: =J8/J$10 -> 0.087809683 | AR8: =L8/L$10 -> 0.10053153 | AT8: =N8/N$10 -> 0.14487648 | AV8: =P8/P$10 -> 0.13833125 | AX8: =R8/R$10 -> 0.13156812 | AZ8: =T8/T$10 -> 0.14033777 | BB8: =V8/V$10 -> 0.14154955 | BD8: =X8/X$10 -> 0.14310228 | BF8: =Z8/Z$10 -> 0.16643859 | BH8: =AB8/AB$10 -> 0.17203965 | BJ8: =AD8/AD$10 -> 0.17704271
B9: Contracts and Grants | D9: 62083 | F9: 54823 | H9: 91677 | J9: 117394 | L9: 143366 | N9: ='IS Modelling'!N30 -> 86019.6 | P9: ='IS Modelling'!P30 -> 111825.48 | R9: ='IS Modelling'!R30 -> 145373.12 | T9: ='IS Modelling'!T30 -> 174447.75 | V9: ='IS Modelling'!V30 -> 200614.91 | X9: ='IS Modelling'!X30 -> 220676.4 | Z9: ='IS Modelling'!Z30 -> 242744.04 | AB9: ='IS Modelling'!AB30 -> 254881.24 | AD9: ='IS Modelling'!AD30 -> 267625.31 | AH9: Contracts and Grants | AJ9: =D9/D$10 -> 0.22335067 | AL9: =F9/F$10 -> 0.17529617 | AN9: =H9/H$10 -> 0.22666182 | AP9: =J9/J$10 -> 0.23990714 | AR9: =L9/L$10 -> 0.29331277 | AT9: =N9/N$10 -> 0.15370708 | AV9: =P9/P$10 -> 0.1467629 | AX9: =R9/R$10 -> 0.15121984 | AZ9: =T9/T$10 -> 0.16831238 | BB9: =V9/V$10 -> 0.17748234 | BD9: =X9/X$10 -> 0.17942924 | BF9: =Z9/Z$10 -> 0.20868954 | BH9: =AB9/AB$10 -> 0.21571245 | BJ9: =AD9/AD$10 -> 0.22198555
B10: Total Revenues | D10: =SUM(D7:D9) -> 277962 | F10: =SUM(F7:F9) -> 312745 | H10: =SUM(H7:H9) -> 404466 | J10: =SUM(J7:J9) -> 489331 | L10: =SUM(L7:L9) -> 488782 | N10: =SUM(N7:N9) -> 559633.3 | P10: =SUM(P7:P9) -> 761946.49 | R10: =SUM(R7:R9) -> 961336.34 | T10: =SUM(T7:T9) -> 1036452.2 | V10: =SUM(V7:V9) -> 1130337.3 | X10: =SUM(X7:X9) -> 1229879.8 | Z10: =SUM(Z7:Z9) -> 1163182.6 | AB10: =SUM(AB7:AB9) -> 1181578.7 | AD10: =SUM(AD7:AD9) -> 1205597.9 | AH10: Total Revenues | AJ10: =D10/D$10 -> 1 | AL10: =F10/F$10 -> 1 | AN10: =H10/H$10 -> 1 | AP10: =J10/J$10 -> 1 | AR10: =L10/L$10 -> 1 | AT10: =N10/N$10 -> 1 | AV10: =P10/P$10 -> 1 | AX10: =R10/R$10 -> 1 | AZ10: =T10/T$10 -> 1 | BB10: =V10/V$10 -> 1 | BD10: =X10/X$10 -> 1 | BF10: =Z10/Z$10 -> 1 | BH10: =AB10/AB$10 -> 1 | BJ10: =AD10/AD$10 -> 1
F11: =F10/D10-1 -> 0.12513581 | H11: =H10/F10-1 -> 0.29327727 | J11: =J10/H10-1 -> 0.20981986 | L11: =L10/J10-1 -> -0.00112194 | N11: =N10/L10-1 -> 0.14495481 | P11: =P10/N10-1 -> 0.36151028 | R11: =R10/P10-1 -> 0.26168484 | T11: =T10/R10-1 -> 0.078136968 | V11: =V10/T10-1 -> 0.0905831 | X11: =X10/V10-1 -> 0.088064463 | Z11: =Z10/X10-1 -> -0.05423071 | AB11: =AB10/Z10-1 -> 0.015815341 | AD11: =AD10/AB10-1 -> 0.020328003 | AL11: =F11/F$10 -> 4.001209e-07
B12: Operating Expenses | AH12: Operating Expenses
B13: Cost of Product Sales and Contract Manufacturing | D13: 46077 | F13: 62127 | H13: 101963 | J13: 107486 | L13: 131284 | N13: ='IS Modelling'!N122*'Financial Statements'!N$10 -> 150314.25 | P13: ='IS Modelling'!P122*'Financial Statements'!P10 -> 204654.39 | R13: ='IS Modelling'!R122*'Financial Statements'!R10 -> 258209.34 | T13: ='IS Modelling'!T122*'Financial Statements'!T10 -> 278385.04 | V13: ='IS Modelling'!V122*'Financial Statements'!V10 -> 303602.02 | X13: ='IS Modelling'!X122*'Financial Statements'!X10 -> 330338.57 | Z13: ='IS Modelling'!Z122*'Financial Statements'!Z10 -> 312424.07 | AB13: ='IS Modelling'!AB122*'Financial Statements'!AB10 -> 317365.17 | AD13: ='IS Modelling'!AD122*'Financial Statements'!AD10 -> 323816.57 | AH13: Cost of Product Sales and Contract Manufacturing | AJ13: =D13/D$10 -> 0.16576726 | AL13: =F13/F$10 -> 0.19865066 | AN13: =H13/H$10 -> 0.25209288 | AP13: =J13/J$10 -> 0.21965909 | AR13: =L13/L$10 -> 0.26859418 | AT13: =N13/N$10 -> 0.26859418 | AV13: =P13/P$10 -> 0.26859418 | AX13: =R13/R$10 -> 0.26859418 | AZ13: =T13/T$10 -> 0.26859418 | BB13: =V13/V$10 -> 0.26859418 | BD13: =X13/X$10 -> 0.26859418 | BF13: =Z13/Z$10 -> 0.26859418 | BH13: =AB13/AB$10 -> 0.26859418 | BJ13: =AD13/AD$10 -> 0.26859418
B14: Research and Development | D14: 96442 | F14: 81759 | H14: 104721 | J14: 119186 | L14: 108290 | N14: ='IS Modelling'!N73 -> 102808.6 | P14: ='IS Modelling'!P73 -> 134683.87 | R14: ='IS Modelling'!R73 -> 174213.21 | T14: ='IS Modelling'!T73 -> 205541.32 | V14: ='IS Modelling'!V73 -> 234525.03 | X14: ='IS Modelling'!X73 -> 257572.8 | Z14: ='IS Modelling'!Z73 -> 277639.52 | AB14: ='IS Modelling'!AB73 -> 290328.61 | AD14: ='IS Modelling'!AD73 -> 303793.24 | AH14: Research and Development | AJ14: =D14/D$10 -> 0.3469611 | AL14: =F14/F$10 -> 0.26142384 | AN14: =H14/H$10 -> 0.25891175 | AP14: =J14/J$10 -> 0.24356928 | AR14: =L14/L$10 -> 0.22155071 | AT14: =N14/N$10 -> 0.18370708 | AV14: =P14/P$10 -> 0.1767629 | AX14: =R14/R$10 -> 0.18121984 | AZ14: =T14/T$10 -> 0.19831238 | BB14: =V14/V$10 -> 0.20748234 | BD14: =X14/X$10 -> 0.20942924 | BF14: =Z14/Z$10 -> 0.23868954 | BH14: =AB14/AB$10 -> 0.24571245 | BJ14: =AD14/AD$10 -> 0.25198555
B15: Stock-based Compensation Expense | N15: ='BS Modelling'!N89 -> 6337.0612 | P15: ='BS Modelling'!P89 -> 6337.0612 | R15: ='BS Modelling'!R89 -> 6337.0612 | T15: ='BS Modelling'!T89 -> 6337.0612 | V15: ='BS Modelling'!V89 -> 248094 | X15: ='BS Modelling'!X89 -> 0 | Z15: ='BS Modelling'!Z89 -> 0 | AB15: ='BS Modelling'!AB89 -> 0 | AD15: ='BS Modelling'!AD89 -> 0
B16: Depreciation and Amortization | N16: ='IS Modelling'!N108+'IS Modelling'!N116 -> 30361.638 | P16: ='IS Modelling'!P108+'IS Modelling'!P116 -> 33130.497 | R16: ='IS Modelling'!R108+'IS Modelling'!R116 -> 36044.344 | T16: ='IS Modelling'!T108+'IS Modelling'!T116 -> 39768.414 | V16: ='IS Modelling'!V108+'IS Modelling'!V116 -> 42719.003 | X16: ='IS Modelling'!X108+'IS Modelling'!X116 -> 43565.498 | Z16: ='IS Modelling'!Z108+'IS Modelling'!Z116 -> 46607.994 | AB16: ='IS Modelling'!AB108+'IS Modelling'!AB116 -> 46976.493 | AD16: ='IS Modelling'!AD108+'IS Modelling'!AD116 -> 49899.501
B17: Selling, General & Administrative | D17: 74883 | F17: 86844 | H17: 108594 | J17: 121145 | L17: 143686 | N17: ='IS Modelling'!N123*'Financial Statements'!N10-N15-N16 -> 119998.62 | P17: ='IS Modelling'!P123*'Financial Statements'!P10-P15-P16 -> 166257.99 | R17: ='IS Modelling'!R123*'Financial Statements'!R10-R15-R16 -> 207566.04 | T17: ='IS Modelling'!T123*'Financial Statements'!T10-T15-T16 -> 213007.58 | V17: =T17*(1+10%) -> 234308.34 | X17: ='IS Modelling'!X123*'Financial Statements'!X10-X15-X16 -> 263904.46 | Z17: ='IS Modelling'!Z123*'Financial Statements'!Z10-Z15-Z16 -> 244187.65 | AB17: ='IS Modelling'!AB123*'Financial Statements'!AB10-AB15-AB16 -> 248418.19 | AD17: ='IS Modelling'!AD123*'Financial Statements'!AD10-AD15-AD16 -> 251499.96 | AH17: Selling, General & Administrative | AJ17: =D17/D$10 -> 0.26940013 | AL17: =F17/F$10 -> 0.2776831 | AN17: =H17/H$10 -> 0.26848734 | AP17: =J17/J$10 -> 0.24757271 | AR17: =L17/L$10 -> 0.29396745 | AT17: =N17/N$10 -> 0.21442367 | AV17: =P17/P$10 -> 0.21820167 | AX17: =R17/R$10 -> 0.21591407 | AZ17: =T17/T$10 -> 0.20551606 | BB17: =V17/V$10 -> 0.20729064 | BD17: =X17/X$10 -> 0.21457744 | BF17: =Z17/Z$10 -> 0.20993063 | BH17: =AB17/AB$10 -> 0.2102426 | BJ17: =AD17/AD$10 -> 0.20861016
B18: Total Operating Expenses | D18: =SUM(D13:D17) -> 217402 | F18: =SUM(F13:F17) -> 230730 | H18: =SUM(H13:H17) -> 315278 | J18: =SUM(J13:J17) -> 347817 | L18: =SUM(L13:L17) -> 383260 | N18: =SUM(N13:N17) -> 409820.17 | P18: =SUM(P13:P17) -> 545063.82 | R18: =SUM(R13:R17) -> 682370.01 | T18: =SUM(T13:T17) -> 743039.42 | V18: =SUM(V13:V17) -> 1063248.4 | X18: =SUM(X13:X17) -> 895381.33 | Z18: =SUM(Z13:Z17) -> 880859.24 | AB18: =SUM(AB13:AB17) -> 903088.45 | AD18: =SUM(AD13:AD17) -> 929009.27 | AH18: Total Operating Expenses | AJ18: =D18/D$10 -> 0.78212849 | AL18: =F18/F$10 -> 0.7377576 | AN18: =H18/H$10 -> 0.77949197 | AP18: =J18/J$10 -> 0.71080107 | AR18: =L18/L$10 -> 0.78411234 | AT18: =N18/N$10 -> 0.73230126 | AV18: =P18/P$10 -> 0.71535708 | AX18: =R18/R$10 -> 0.70981402 | AZ18: =T18/T$10 -> 0.71690656 | BB18: =V18/V$10 -> 0.94064701 | BD18: =X18/X$10 -> 0.72802342 | BF18: =Z18/Z$10 -> 0.75728372 | BH18: =AB18/AB$10 -> 0.76430663 | BJ18: =AD18/AD$10 -> 0.77057973
B19: Income from Operations | D19: =D10-D18 -> 60560 | F19: =F10-F18 -> 82015 | H19: =H10-H18 -> 89188 | J19: =J10-J18 -> 141514 | L19: =L10-L18 -> 105522 | N19: =N10-N18 -> 149813.13 | P19: =P10-P18 -> 216882.67 | R19: =R10-R18 -> 278966.33 | T19: =T10-T18 -> 293412.83 | V19: =V10-V18 -> 67088.904 | X19: =X10-X18 -> 334498.52 | Z19: =Z10-Z18 -> 282323.35 | AB19: =AB10-AB18 -> 278490.27 | AD19: =AD10-AD18 -> 276588.58 | AH19: Income from Operations | AJ19: =D19/D$10 -> 0.21787151 | AL19: =F19/F$10 -> 0.2622424 | AN19: =H19/H$10 -> 0.22050803 | AP19: =J19/J$10 -> 0.28919893 | AR19: =L19/L$10 -> 0.21588766 | AT19: =N19/N$10 -> 0.26769874 | AV19: =P19/P$10 -> 0.28464292 | AX19: =R19/R$10 -> 0.29018598 | AZ19: =T19/T$10 -> 0.28309344 | BB19: =V19/V$10 -> 0.059352995 | BD19: =X19/X$10 -> 0.27197658 | BF19: =Z19/Z$10 -> 0.24271628 | BH19: =AB19/AB$10 -> 0.23569337 | BJ19: =AD19/AD$10 -> 0.22942027
F20: =F19/D19-1 -> 0.35427675 | H20: =H19/F19-1 -> 0.087459611 | J20: =J19/H19-1 -> 0.58669328 | L20: =L19/J19-1 -> -0.25433526 | N20: =N19/L19-1 -> 0.41973361 | P20: =P19/N19-1 -> 0.447688 | R20: =R19/P19-1 -> 0.28625459 | T20: =T19/R19-1 -> 0.051785805 | V20: =V19/T19-1 -> -0.77134979 | X20: =X19/V19-1 -> 3.9858993 | Z20: =Z19/X19-1 -> -0.15598027 | AB20: =AB19/Z19-1 -> -0.013576922 | AD20: =AD19/AB19-1 -> -0.0068285491
B21: EBITDA | H21: =H19+'IS Modelling'!H108+'IS Modelling'!H116 -> 118247 | J21: =J19+'IS Modelling'!J108+'IS Modelling'!J116 -> 163251 | L21: =L19+'IS Modelling'!L108+'IS Modelling'!L116 -> 130204 | N21: =N19+N16 -> 180174.77 | P21: =P19+P16 -> 250013.17 | R21: =R19+R16 -> 315010.67 | T21: =T19+T16 -> 333181.24 | V21: =V19+V16 -> 109807.91 | X21: =X19+X16 -> 378064.02 | Z21: =Z19+Z16 -> 328931.34 | AB21: =AB19+AB16 -> 325466.76 | AD21: =AD19+AD16 -> 326488.08
J22: =J21/H21-1 -> 0.38059317 | L22: =L21/J21-1 -> -0.20243061 | N22: =N21/L21-1 -> 0.38378827 | P22: =P21/N21-1 -> 0.38761476 | R22: =R21/P21-1 -> 0.25997633 | T22: =T21/R21-1 -> 0.057682382 | V22: =V21/T21-1 -> -0.6704259 | X22: =X21/V21-1 -> 2.4429581 | Z22: =Z21/X21-1 -> -0.12995861 | AB22: =AB21/Z21-1 -> -0.010532845 | AD22: =AD21/AB21-1 -> 0.0031380267
B23: Other Income (Expense) | AH23: Other Income (Expense)
B24: Interest Income | D24: 133 | F24: 139 | H24: 320 | J24: 572 | L24: 1053 | N24: ='IS Modelling'!N127*'Financial Statements'!L130 -> 986.18422 | P24: ='IS Modelling'!P127*'Financial Statements'!N130 -> 1226.5365 | R24: ='IS Modelling'!R127*'Financial Statements'!P130 -> 1181.0011 | T24: ='IS Modelling'!T127*'Financial Statements'!R130 -> 1176.9024 | V24: ='IS Modelling'!V127*'Financial Statements'!T130 -> 1319.9097 | X24: ='IS Modelling'!X127*'Financial Statements'!V130 -> 2083.5722 | Z24: ='IS Modelling'!Z127*'Financial Statements'!X130 -> 2280.6501 | AB24: ='IS Modelling'!AB127*'Financial Statements'!Z130 -> 2520.3653 | AD24: ='IS Modelling'!AD127*'Financial Statements'!AB130 -> 2683.8413 | AH24: Interest Income | AJ24: =D24/D$10 -> 0.00047848267 | AL24: =F24/F$10 -> 0.00044445155 | AN24: =H24/H$10 -> 0.00079116662 | AP24: =J24/J$10 -> 0.0011689429 | AR24: =L24/L$10 -> 0.0021543347 | AT24: =N24/N$10 -> 0.0017621972 | AV24: =P24/P$10 -> 0.001609741 | AX24: =R24/R$10 -> 0.0012284994 | AZ24: =T24/T$10 -> 0.0011355105 | BB24: =V24/V$10 -> 0.0011677131 | BD24: =X24/X$10 -> 0.0016941266 | BF24: =Z24/Z$10 -> 0.0019606983 | BH24: =AB24/AB$10 -> 0.002133049 | BJ24: =AD24/AD$10 -> 0.0022261497
B25: Interest Expense | D25: 6 | F25: 0 | H25: 8240 | J25: 6523 | L25: 7617 | N25: ='IS Modelling'!N128*('Financial Statements'!L153+'Financial Statements'!L159+'Financial Statements'!L164) -> 7930.5923 | P25: ='IS Modelling'!P128*('Financial Statements'!N153+'Financial Statements'!N159+'Financial Statements'!N164) -> 7338.9645 | R25: ='IS Modelling'!R128*('Financial Statements'!P153+'Financial Statements'!P159+'Financial Statements'!P164) -> 7338.9645 | T25: ='IS Modelling'!T128*('Financial Statements'!R153+'Financial Statements'!R159+'Financial Statements'!R164) -> 7338.9645 | V25: ='IS Modelling'!V128*('Financial Statements'!T153+'Financial Statements'!T159+'Financial Statements'!T164) -> 7338.9645 | X25: ='IS Modelling'!X128*('Financial Statements'!V153+'Financial Statements'!V159+'Financial Statements'!V164) -> 11832.555 | Z25: ='IS Modelling'!Z128*('Financial Statements'!X153+'Financial Statements'!X159+'Financial Statements'!X164) -> 11832.555 | AB25: ='IS Modelling'!AB128*('Financial Statements'!Z153+'Financial Statements'!Z159+'Financial Statements'!Z164) -> 11832.555 | AD25: ='IS Modelling'!AD128*('Financial Statements'!AB153+'Financial Statements'!AB159+'Financial Statements'!AB164) -> 11832.555 | AH25: Interest Expense | AJ25: =D25/D$10 -> 2.1585684e-05 | AL25: =F25/F$10 -> 0 | AN25: =H25/H$10 -> 0.020372541 | AP25: =J25/J$10 -> 0.013330445 | AR25: =L25/L$10 -> 0.015583634 | AT25: =N25/N$10 -> 0.014171051 | AV25: =P25/P$10 -> 0.0096318634 | AX25: =R25/R$10 -> 0.0076341279 | AZ25: =T25/T$10 -> 0.0070808516 | BB25: =V25/V$10 -> 0.0064927208 | BD25: =X25/X$10 -> 0.009620903 | BF25: =Z25/Z$10 -> 0.010172569 | BH25: =AB25/AB$10 -> 0.010014191 | BJ25: =AD25/AD$10 -> 0.0098146779
B26: Other Income (Expense), Net | D26: 1943 | F26: 409 | H26: 2926 | J26: 153 | L26: 263 | N26: ='IS Modelling'!N129*'Financial Statements'!N$10 -> 238.05233 | P26: ='IS Modelling'!P129*'Financial Statements'!P$10 -> 324.11069 | R26: ='IS Modelling'!R129*'Financial Statements'!R$10 -> 408.92555 | T26: ='IS Modelling'!T129*'Financial Statements'!T$10 -> 440.87775 | V26: ='IS Modelling'!V129*'Financial Statements'!V$10 -> 480.81383 | X26: ='IS Modelling'!X129*'Financial Statements'!X$10 -> 523.15644 | Z26: ='IS Modelling'!Z129*'Financial Statements'!Z$10 -> 494.78529 | AB26: ='IS Modelling'!AB129*'Financial Statements'!AB$10 -> 502.61049 | AD26: ='IS Modelling'!AD129*'Financial Statements'!AD$10 -> 512.82756 | AH26: Other Income (Expense), Net | AJ26: =D26/D$10 -> 0.0069901641 | AL26: =F26/F$10 -> 0.0013077747 | AN26: =H26/H$10 -> 0.0072342298 | AP26: =J26/J$10 -> 0.00031267179 | AR26: =L26/L$10 -> 0.00053807219 | AT26: =N26/N$10 -> 0.00042537199 | AV26: =P26/P$10 -> 0.00042537199 | AX26: =R26/R$10 -> 0.00042537199 | AZ26: =T26/T$10 -> 0.00042537199 | BB26: =V26/V$10 -> 0.00042537199 | BD26: =X26/X$10 -> 0.00042537199 | BF26: =Z26/Z$10 -> 0.00042537199 | BH26: =AB26/AB$10 -> 0.00042537199 | BJ26: =AD26/AD$10 -> 0.00042537199
B27: Total Other Income (Expense) | D27: =D24-D25+D26 -> 2070 | F27: =F24-F25+F26 -> 548 | H27: =H24-H25+H26 -> -4994 | J27: =J24-J25+J26 -> -5798 | L27: =L24-L25+L26 -> -6301 | N27: =N24-N25+N26 -> -6706.3557 | P27: =P24-P25+P26 -> -5788.3174 | R27: =R24-R25+R26 -> -5749.0379 | T27: =T24-T25+T26 -> -5721.1844 | V27: =V24-V25+V26 -> -5538.241 | X27: =X24-X25+X26 -> -9225.826 | Z27: =Z24-Z25+Z26 -> -9057.1193 | AB27: =AB24-AB25+AB26 -> -8809.5789 | AD27: =AD24-AD25+AD26 -> -8635.8858 | AH27: Total Other Income (Expense) | AJ27: =D27/D$10 -> 0.0074470611 | AL27: =F27/F$10 -> 0.0017522263 | AN27: =H27/H$10 -> -0.012347144 | AP27: =J27/J$10 -> -0.01184883 | AR27: =L27/L$10 -> -0.012891228 | AT27: =N27/N$10 -> -0.011983482 | AV27: =P27/P$10 -> -0.0075967505 | AX27: =R27/R$10 -> -0.0059802566 | AZ27: =T27/T$10 -> -0.0055199691 | BB27: =V27/V$10 -> -0.0048996357 | BD27: =X27/X$10 -> -0.0075014044 | BF27: =Z27/Z$10 -> -0.0077864983 | BH27: =AB27/AB$10 -> -0.0074557698 | BJ27: =AD27/AD$10 -> -0.0071631562
B29: Income from Continuing Operations Before Taxes | D29: =D19+D27 -> 62630 | F29: =F19+F27 -> 82563 | H29: =H19+H27 -> 84194 | J29: =J19+J27 -> 135716 | L29: =L19+L27 -> 99221 | N29: =N19+N27 -> 143106.77 | P29: =P19+P27 -> 211094.35 | R29: =R19+R27 -> 273217.29 | T29: =T19+T27 -> 287691.64 | V29: =V19+V27 -> 61550.663 | X29: =X19+X27 -> 325272.69 | Z29: =Z19+Z27 -> 273266.23 | AB29: =AB19+AB27 -> 269680.69 | AD29: =AD19+AD27 -> 267952.7 | AH29: Income from Continuing Operations Before Taxes | AJ29: =D29/D$10 -> 0.22531857 | AL29: =F29/F$10 -> 0.26399463 | AN29: =H29/H$10 -> 0.20816088 | AP29: =J29/J$10 -> 0.2773501 | AR29: =L29/L$10 -> 0.20299643 | AT29: =N29/N$10 -> 0.25571526 | AV29: =P29/P$10 -> 0.27704617 | AX29: =R29/R$10 -> 0.28420573 | AZ29: =T29/T$10 -> 0.27757347 | BB29: =V29/V$10 -> 0.054453359 | BD29: =X29/X$10 -> 0.26447518 | BF29: =Z29/Z$10 -> 0.23492978 | BH29: =AB29/AB$10 -> 0.2282376 | BJ29: =AD29/AD$10 -> 0.22225711
B30: Taxes | D30: 9834 | F30: 12270 | H30: 29928 | J30: 44300 | L30: 36697 | N30: =N29*'IS Modelling'!N133 -> 50087.371 | P30: =P29*'IS Modelling'!P133 -> 73883.024 | R30: =R29*'IS Modelling'!R133 -> 95626.052 | T30: =T29*'IS Modelling'!T133 -> 100692.07 | V30: =V29*'IS Modelling'!V133 -> 21542.732 | X30: =X29*'IS Modelling'!X133 -> 113845.44 | Z30: =Z29*'IS Modelling'!Z133 -> 95643.18 | AB30: =AB29*'IS Modelling'!AB133 -> 94388.241 | AD30: =AD29*'IS Modelling'!AD133 -> 93783.444 | AH30: Taxes | AJ30: =D30/D$10 -> 0.035378937 | AL30: =F30/F$10 -> 0.039233241 | AN30: =H30/H$10 -> 0.073993859 | AP30: =J30/J$10 -> 0.090531767 | AR30: =L30/L$10 -> 0.07507846 | AT30: =N30/N$10 -> 0.089500341 | AV30: =P30/P$10 -> 0.096966158 | AX30: =R30/R$10 -> 0.099472005 | AZ30: =T30/T$10 -> 0.097150713 | BB30: =V30/V$10 -> 0.019058676 | BD30: =X30/X$10 -> 0.092566313 | BF30: =Z30/Z$10 -> 0.082225423 | BH30: =AB30/AB$10 -> 0.079883159 | BJ30: =AD30/AD$10 -> 0.077789989
B31: Net Income from Continuing Operations | D31: =D29-D30 -> 52796 | F31: =F29-F30 -> 70293 | H31: =H29-H30 -> 54266 | J31: =J29-J30 -> 91416 | L31: =L29-L30 -> 62524 | N31: =N29-N30 -> 93019.403 | P31: =P29-P30 -> 137211.33 | R31: =R29-R30 -> 177591.24 | T31: =T29-T30 -> 186999.57 | V31: =V29-V30 -> 40007.931 | X31: =X29-X30 -> 211427.25 | Z31: =Z29-Z30 -> 177623.05 | AB31: =AB29-AB30 -> 175292.45 | AD31: =AD29-AD30 -> 174169.25 | AH31: Net Income from Continuing Operations | AJ31: =D31/D$10 -> 0.18993963 | AL31: =F31/F$10 -> 0.22476139 | AN31: =H31/H$10 -> 0.13416703 | AP31: =J31/J$10 -> 0.18681833 | AR31: =L31/L$10 -> 0.12791797 | AT31: =N31/N$10 -> 0.16621492 | AV31: =P31/P$10 -> 0.18008001 | AX31: =R31/R$10 -> 0.18473372 | AZ31: =T31/T$10 -> 0.18042275 | BB31: =V31/V$10 -> 0.035394683 | BD31: =X31/X$10 -> 0.17190887 | BF31: =Z31/Z$10 -> 0.15270436 | BH31: =AB31/AB$10 -> 0.14835444 | BJ31: =AD31/AD$10 -> 0.14446712
B32: Net Loss Attributable to Noncontrolling Interest | D32: -5381 | F32: -876 | H32: 0 | J32: 0 | L32: 0 | N32: =L32 -> 0 | P32: =N32 -> 0 | R32: =P32 -> 0 | T32: =R32 -> 0 | V32: =T32 -> 0 | X32: =V32 -> 0 | Z32: =X32 -> 0 | AB32: =Z32 -> 0 | AD32: =AB32 -> 0 | AH32: Net Loss Attributable to Noncontrolling Interest | AJ32: =D32/D$10 -> -0.019358761 | AL32: =F32/F$10 -> -0.002801004 | AN32: =H32/H$10 -> 0 | AP32: =J32/J$10 -> 0 | AR32: =L32/L$10 -> 0 | AT32: =N32/N$10 -> 0 | AV32: =P32/P$10 -> 0 | AX32: =R32/R$10 -> 0 | AZ32: =T32/T$10 -> 0 | BB32: =V32/V$10 -> 0 | BD32: =X32/X$10 -> 0 | BF32: =Z32/Z$10 -> 0 | BH32: =AB32/AB$10 -> 0 | BJ32: =AD32/AD$10 -> 0
B33: Net Income Attributable to Emergent BioSolutions | D33: =D31-D32 -> 58177 | F33: =F31-F32 -> 71169 | H33: =H31-H32 -> 54266 | J33: =J31-J32 -> 91416 | L33: =L31-L32 -> 62524 | N33: =N31-N32 -> 93019.403 | P33: =P31-P32 -> 137211.33 | R33: =R31-R32 -> 177591.24 | T33: =T31-T32 -> 186999.57 | V33: =V31-V32 -> 40007.931 | X33: =X31-X32 -> 211427.25 | Z33: =Z31-Z32 -> 177623.05 | AB33: =AB31-AB32 -> 175292.45 | AD33: =AD31-AD32 -> 174169.25 | AH33: Net Income Attributable to Emergent BioSolutions | AJ33: =D33/D$10 -> 0.20929839 | AL33: =F33/F$10 -> 0.22756239 | AN33: =H33/H$10 -> 0.13416703 | AP33: =J33/J$10 -> 0.18681833 | AR33: =L33/L$10 -> 0.12791797 | AT33: =N33/N$10 -> 0.16621492 | AV33: =P33/P$10 -> 0.18008001 | AX33: =R33/R$10 -> 0.18473372 | AZ33: =T33/T$10 -> 0.18042275 | BB33: =V33/V$10 -> 0.035394683 | BD33: =X33/X$10 -> 0.17190887 | BF33: =Z33/Z$10 -> 0.15270436 | BH33: =AB33/AB$10 -> 0.14835444 | BJ33: =AD33/AD$10 -> 0.14446712
B34: Net Loss from Discontinued Operations | D34: -34653 | F34: -40034 | H34: -17525 | J34: -28546 | L34: -10748 | N34: 0 | P34: 0 | R34: 0 | T34: 0 | V34: 0 | X34: 0 | Z34: 0 | AB34: 0 | AD34: 0 | AH34: Net Loss from Discontinued Operations | AJ34: =D34/D$10 -> -0.12466812 | AL34: =F34/F$10 -> -0.12800844 | AN34: =H34/H$10 -> -0.043328735 | AP34: =J34/J$10 -> -0.05833679 | AR34: =L34/L$10 -> -0.021989353 | AT34: =N34/N$10 -> 0 | AV34: =P34/P$10 -> 0 | AX34: =R34/R$10 -> 0 | AZ34: =T34/T$10 -> 0 | BB34: =V34/V$10 -> 0 | BD34: =X34/X$10 -> 0 | BF34: =Z34/Z$10 -> 0 | BH34: =AB34/AB$10 -> 0 | BJ34: =AD34/AD$10 -> 0
B35: Net Income | D35: =D33+D34 -> 23524 | F35: =F33+F34 -> 31135 | H35: =H33+H34 -> 36741 | J35: =J33+J34 -> 62870 | L35: =L33+L34 -> 51776 | N35: =N33+N34 -> 93019.403 | P35: =P33+P34 -> 137211.33 | R35: =R33+R34 -> 177591.24 | T35: =T33+T34 -> 186999.57 | V35: =V33+V34 -> 40007.931 | X35: =X33+X34 -> 211427.25 | Z35: =Z33+Z34 -> 177623.05 | AB35: =AB33+AB34 -> 175292.45 | AD35: =AD33+AD34 -> 174169.25 | AH35: Net Income | AJ35: =D35/D$10 -> 0.084630273 | AL35: =F35/F$10 -> 0.09955395 | AN35: =H35/H$10 -> 0.09083829 | AP35: =J35/J$10 -> 0.12848154 | AR35: =L35/L$10 -> 0.10592861 | AT35: =N35/N$10 -> 0.16621492 | AV35: =P35/P$10 -> 0.18008001 | AX35: =R35/R$10 -> 0.18473372 | AZ35: =T35/T$10 -> 0.18042275 | BB35: =V35/V$10 -> 0.035394683 | BD35: =X35/X$10 -> 0.17190887 | BF35: =Z35/Z$10 -> 0.15270436 | BH35: =AB35/AB$10 -> 0.14835444 | BJ35: =AD35/AD$10 -> 0.14446712
F36: =F35/D35-1 -> 0.32354191 | H36: =H35/F35-1 -> 0.1800546 | J36: =J35/H35-1 -> 0.71116736 | L36: =L35/J35-1 -> -0.17645936 | N36: =N35/L35-1 -> 0.79657377 | P36: =P35/N35-1 -> 0.47508288 | R36: =R35/P35-1 -> 0.29428991 | T36: =T35/R35-1 -> 0.052977428 | V36: =V35/T35-1 -> -0.78605335 | X36: =X35/V35-1 -> 4.2846335 | Z36: =Z35/X35-1 -> -0.15988573 | AB36: =AB35/Z35-1 -> -0.013121057 | AD36: =AD35/AB35-1 -> -0.0064075457
B37: Other Comprehensive Income | M37: Est | N37: =48.7/30.2*L35 -> 83493.086
B38: Foreign Currency Translation, Net of Tax | D38: -816 | F38: 664 | H38: 457 | J38: 295 | L38: -1618 | N38: 0 | P38: 0 | R38: 0 | T38: 0 | V38: 0 | X38: 0 | Z38: 0 | AB38: 0 | AD38: 0
B39: Comprehensive Income | D39: =D35+D38 -> 22708 | F39: =F35+F38 -> 31799 | H39: =H35+H38 -> 37198 | J39: =J35+J38 -> 63165 | L39: =L35+L38 -> 50158 | N39: =N35+N38 -> 93019.403 | P39: =P35+P38 -> 137211.33 | R39: =R35+R38 -> 177591.24 | T39: =T35+T38 -> 186999.57 | V39: =V35+V38 -> 40007.931 | X39: =X35+X38 -> 211427.25 | Z39: =Z35+Z38 -> 177623.05 | AB39: =AB35+AB38 -> 175292.45 | AD39: =AD35+AD38 -> 174169.25
B41: EPS from Continuing Operations- Basic | D41: =D33/D$49*1000 -> 1.6124224 | F41: =F33/F$49*1000 -> 1.9659248 | H41: =H33/H$49*1000 -> 1.4531037 | J41: =J33/J$49*1000 -> 2.3685703 | L41: =L33/L$49*1000 -> 1.5559365 | N41: =N33/N$49*1000 -> 2.2977598 | P41: =P33/P$49*1000 -> 3.3645783 | R41: =R33/R$49*1000 -> 4.3230977 | T41: =T33/T$49*1000 -> 4.5192866 | V41: =V33/V$49*1000 -> 0.81484802 | X41: =X33/X$49*1000 -> 4.3061731 | Z41: =Z33/Z$49*1000 -> 3.6176775 | AB41: =AB33/AB$49*1000 -> 3.5702097 | AD41: =AD33/AD$49*1000 -> 3.5473334
B42: EPS from Discontinued Operations- Basic | D42: =D34/D$49*1000 -> -0.96043583 | F42: =F34/F$49*1000 -> -1.1058724 | H42: =H34/H$49*1000 -> -0.46927436 | J42: =J34/J$49*1000 -> -0.73962115 | L42: =L34/L$49*1000 -> -0.26746858 | N42: =N34/N$49*1000 -> 0 | P42: =P34/P$49*1000 -> 0 | R42: =R34/R$49*1000 -> 0 | T42: =T34/T$49*1000 -> 0 | V42: =V34/V$49*1000 -> 0 | X42: =X34/X$49*1000 -> 0 | Z42: =Z34/Z$49*1000 -> 0 | AB42: =AB34/AB$49*1000 -> 0 | AD42: =AD34/AD$49*1000 -> 0
B43: EPS- Basic | D43: =D41+D42 -> 0.65198662 | F43: =F41+F42 -> 0.86005239 | H43: =H41+H42 -> 0.98382935 | J43: =J41+J42 -> 1.6289491 | L43: =L41+L42 -> 1.2884679 | N43: =N41+N42 -> 2.2977598 | P43: =P41+P42 -> 3.3645783 | R43: =R41+R42 -> 4.3230977 | T43: =T41+T42 -> 4.5192866 | V43: =V41+V42 -> 0.81484802 | X43: =X41+X42 -> 4.3061731 | Z43: =Z41+Z42 -> 3.6176775 | AB43: =AB41+AB42 -> 3.5702097 | AD43: =AD41+AD42 -> 3.5473334
B45: EPS from Continuing Operations- Diluted | D45: =D33/D$50*1000 -> 1.5973625 | F45: =F33/F$50*1000 -> 1.9367002 | H45: =H33/H$50*1000 -> 1.1847745 | J45: =J33/J$50*1000 -> 1.934491 | L45: =L33/L$50*1000 -> 1.2673327 | N45: =N33/N$50*1000 -> 1.8558349 | P45: =P33/P$50*1000 -> 2.756281 | R45: =R33/R$50*1000 -> 3.5920569 | T45: =T33/T$50*1000 -> 3.8086505 | V45: =V33/V$50*1000 -> 0.81484802 | X45: =X33/X$50*1000 -> 4.3061731 | Z45: =Z33/Z$50*1000 -> 3.6176775 | AB45: =AB33/AB$50*1000 -> 3.5702097 | AD45: =AD33/AD$50*1000 -> 3.5473334
...

Sheet IS Modelling
B1: EMERGENT BIOSOLUTIONS INC.
D3: 2012 | F3: 2013 | H3: 2014 | J3: 2015 | L3: 2016 | N3: 2017F | P3: 2018F | R3: 2019F | T3: 2020F | V3: 2021F | X3: 2022F | Z3: 2023F | AB3: 2024F | AD3: 2025F
B5: 1. Product Sales Breakdown
B6: 2. Research and Development Expense
B7: 3.PPE and Depreciation
B8: 4. Amortization
B9: 5. Cost Assumption
B10: 6. Other Assumption
B11: 7. Taxes
D12: 1 | F12: 2 | H12: 3 | J12: 4 | L12: 5 | N12: 6 | P12: 7 | R12: 8 | T12: 9 | V12: 10 | X12: 11 | Z12: 12 | AB12: 13 | AD12: 14 | AE12: Notes
A13: 1 | B13: Product Sales | F13: =F14/F31 -> 0.78087012 | H13: =H14/H31 -> 0.60797447 | J13: =J14/J31 -> 0.60065886 | L13: =L14/L31 -> 0.48494012 | N13: =N14/N31 -> 0.50825424 | P13: =P14/P31 -> 0.30474581 | R13: =R14/R31 -> 0.29354971 | T13: =T14/T31 -> 0.27227497 | V13: =V14/V31 -> 0.24965999 | X13: =X14/X31 -> 0.22945331 | Z13: =Z14/Z31 -> 0.085971025 | AB13: =AB14/AB31 -> 0.042316267 | AD13: =AD14/AD31 -> 0
B14: BioThrax | D14: 215300 | F14: 244100 | H14: 245905 | J14: 293921 | L14: 237030 | N14: =L14*(1+N34) -> 284436 | P14: =P15+P16+P17 -> 232200 | R14: =R15+R16+R17 -> 282200 | T14: =T15+T16+T17 -> 282200 | V14: =V15+V16+V17 -> 282200 | X14: =X15+X16+X17 -> 282200 | Z14: =Z15+Z16+Z17 -> 100000 | AB14: =AB15+AB16+AB17 -> 50000 | AD14: =AD15+AD16+AD17 -> 0 | AE14: Delivered $100 m to BARDA in March completed, CDC $911 m 5 year contract; Germany regulatory approval in 2017, target 5 other European countries and Canada in 2018, EU stockpiling of Medical Countermeasure (McM)
B15: US Only | P15: =911000/5 -> 182200 | R15: =911000/5 -> 182200 | T15: =911000/5 -> 182200 | V15: =911000/5 -> 182200 | X15: =911000/5 -> 182200 | Z15: 0 | AB15: 0 | AD15: 0
B16: Other Countries | P16: 50000 | R16: 50000 | T16: 50000 | V16: 50000 | X16: 50000 | Z16: 50000 | AB16: 0 | AD16: 0
B17: Other Countries | R17: 50000 | T17: 50000 | V17: 50000 | X17: 50000 | Z17: 50000 | AB17: 50000 | AD17: 0
B18: Other | D18: 546 | F18: =2500+9900+1300 -> 13700 | H18: 35940 | J18: 35048 | L18: 59248 | N18: =SUM(N19:N26) -> 108100 | P18: =SUM(P19:P26) -> 312520 | R18: =SUM(R19:R26) -> 407282 | T18: =SUM(T19:T26) -> 434351.1 | V18: =SUM(V19:V26) -> 487523.66 | X18: =SUM(X19:X26) -> 551004.84 | Z18: =SUM(Z19:Z26) -> 626840.08 | AB18: =SUM(AB19:AB26) -> 673419.08 | AD18: =SUM(AD19:AD26) -> 724530.24
B19: NuThrax | N19: 0 | P19: 104000 | R19: 255000 | T19: =R19*(1+T36) -> 255000 | V19: =T19*(1+V36) -> 306000 | X19: =V19*(1+X36) -> 367200 | Z19: =X19*(1+Z36) -> 440640 | AB19: =Z19*(1+AB36) -> 484704 | AD19: =AB19*(1+AD36) -> 533174.4 | AE19: BARDA contract 5 year $200 m to develop, if approved by FDA, 2018: $104 m, 2019: $255 m -1.5 b
B20: ACAM2000 | N20: 0 | P20: 80000 | R20: 20000 | T20: 45000 | V20: 45000 | X20: 45000 | Z20: 45000 | AB20: 45000 | AD20: 45000 | AE20: Acquired from Sanofi, the only FDA approved vaccine for smallpox, $425 million contract with CDC with remaining value of $160 million for delivery to SNS. WF: Revenue 2018: 80 m; 2019: 20 m; 2020 and so on: $45 m
B21: Anthrasil | N21: 9000 | P21: =130000/5 -> 26000 | R21: =130000/5 -> 26000 | T21: =130000/5 -> 26000 | V21: =130000/5 -> 26000 | X21: =130000/5 -> 26000 | Z21: =130000/5 -> 26000 | AB21: =130000/5 -> 26000 | AD21: =130000/5 -> 26000 | AE21: BARDA development and procurement contract until April 2021, $130 m; $9 m in 2017, rest in 2018
B22: Raxibacumab | N22: =130000/4 -> 32500 | P22: =130000/4 -> 32500 | R22: =130000/4 -> 32500 | T22: =130000/4 -> 32500 | V22: =130000/4 -> 32500 | X22: =130000/4 -> 32500 | Z22: =130000/4 -> 32500 | AB22: =130000/4 -> 32500 | AD22: =130000/4 -> 32500 | AE22: Acquired from GSK, FDA approved anthrax monoclonal antibody, multiyear contract with BARDA with remaining value of $130 million to SNS
B23: BAT | N23: =53000/5 -> 10600 | P23: =53000/5 -> 10600 | R23: =53000/5 -> 10600 | T23: =53000/5 -> 10600 | V23: =53000/5 -> 10600 | X23: =53000/5 -> 10600 | Z23: =53000/5 -> 10600 | AB23: =53000/5 -> 10600 | AD23: =53000/5 -> 10600 | AE23: BARDA procurement up to 200.000 doses to May 2018 (SNS) $53 m over 5 years
B24: VIGIV | N24: =(11600+22000)/2 -> 16800 | P24: =(11600+22000)/2 -> 16800 | R24: =(11600+22000)/2 -> 16800 | T24: =(11600+22000)/2 -> 16800 | V24: =(11600+22000)/2 -> 16800 | X24: =(11600+22000)/2 -> 16800 | Z24: =(11600+22000)/2 -> 16800 | AB24: =(11600+22000)/2 -> 16800 | AD24: =(11600+22000)/2 -> 16800 | AE24: CDC procurement contract 5 year to Aug 2017, extension potential? CDC (2016) extend contract of $11.6 m over 1 year, part of $92 m contract previously; renewed every time at $ 44m / 2 year
B25: RSDL | N25: =171000/5 -> 34200 | P25: =N25*(1+P42) -> 37620 | R25: =P25*(1+R42) -> 41382 | T25: =R25*(1+T42) -> 43451.1 | V25: =T25*(1+V42) -> 45623.655 | X25: =V25*(1+X42) -> 47904.838 | Z25: =X25*(1+Z42) -> 50300.08 | AB25: =Z25*(1+AB42) -> 52815.084 | AD25: =AB25*(1+AD42) -> 55455.838 | AE25: 5 year follow on contract of $ 171 million by DoD, now sold via Amazon
B26: Trobigard | N26: =25000/5 -> 5000 | P26: =25000/5 -> 5000 | R26: =25000/5 -> 5000 | T26: =25000/5 -> 5000 | V26: =25000/5 -> 5000 | X26: =25000/5 -> 5000 | Z26: =25000/5 -> 5000 | AB26: =25000/5 -> 5000 | AD26: =25000/5 -> 5000 | AE26: $25 million contract by Dept of State
N27: =(N22+N25)/N31 -> 0.11918519 | P27: =(P22+P25)/P31 -> 0.09202746 | R27: =(R22+R25)/R31 -> 0.076853435 | T27: =(T22+T25)/T31 -> 0.073279884 | V27: =(V22+V25)/V31 -> 0.069115347 | X27: =(X22+X25)/X31 -> 0.065376173 | Z27: =(Z22+Z25)/Z31 -> 0.071184078 | AB27: =(AB22+AB25)/AB31 -> 0.072204316 | AD27: =(AD22+AD25)/AD31 -> 0.0729562
B28: Total Product Sales | D28: =SUM(D14:D18) -> 215846 | F28: =SUM(F14:F18) -> 257800 | H28: =SUM(H14:H18) -> 281845 | J28: =SUM(J14:J18) -> 328969 | L28: =SUM(L14:L18) -> 296278 | N28: =SUM(N14,N18) -> 392536 | P28: =SUM(P14,P18) -> 544720 | R28: =SUM(R14,R18) -> 689482 | T28: =SUM(T14,T18) -> 716551.1 | V28: =SUM(V14,V18) -> 769723.66 | X28: =SUM(X14,X18) -> 833204.84 | Z28: =SUM(Z14,Z18) -> 726840.08 | AB28: =SUM(AB14,AB18) -> 723419.08 | AD28: =SUM(AD14,AD18) -> 724530.24
B29: Contract Manufacturing | D29: 0 | F29: 0 | H29: 30944 | J29: 42968 | L29: 49138 | N29: =L29*(1+N48) -> 81077.7 | P29: =N29*(1+P48) -> 105401.01 | R29: =P29*(1+R48) -> 126481.21 | T29: =R29*(1+T48) -> 145453.39 | V29: =T29*(1+V48) -> 159998.73 | X29: =V29*(1+X48) -> 175998.61 | Z29: =X29*(1+Z48) -> 193598.47 | AB29: =Z29*(1+AB48) -> 203278.39 | AD29: =AB29*(1+AD48) -> 213442.31
B30: Contracts and Grants | D30: 66000 | F30: 54800 | H30: 91677 | J30: 117394 | L30: 143366 | N30: =L30*(1+N49) -> 86019.6 | P30: =N30*(1+P49) -> 111825.48 | R30: =P30*(1+R49) -> 145373.12 | T30: =R30*(1+T49) -> 174447.75 | V30: =T30*(1+V49) -> 200614.91 | X30: =V30*(1+X49) -> 220676.4 | Z30: =X30*(1+Z49) -> 242744.04 | AB30: =Z30*(1+AB49) -> 254881.24 | AD30: =AB30*(1+AD49) -> 267625.31 | AE30: Awarded $63 million by BARDA to develop antidote for cyanide poisoning, awarded $ 23 million by DoD for nerve agent antidote injector
B31: Total Revenues | D31: =SUM(D28:D30) -> 281846 | F31: =SUM(F28:F30) -> 312600 | H31: =SUM(H28:H30) -> 404466 | J31: =SUM(J28:J30) -> 489331 | L31: =SUM(L28:L30) -> 488782 | N31: =SUM(N28:N30) -> 559633.3 | P31: =SUM(P28:P30) -> 761946.49 | R31: =SUM(R28:R30) -> 961336.34 | T31: =SUM(T28:T30) -> 1036452.2 | V31: =SUM(V28:V30) -> 1130337.3 | X31: =SUM(X28:X30) -> 1229879.8 | Z31: =SUM(Z28:Z30) -> 1163182.6 | AB31: =SUM(AB28:AB30) -> 1181578.7 | AD31: =SUM(AD28:AD30) -> 1205597.9
D32: =D29/D31 -> 0 | F32: =F29/F31 -> 0 | H32: =H29/H31 -> 0.076505813 | J32: =J29/J31 -> 0.087809683 | L32: =L29/L31 -> 0.10053153 | N32: =N29/N31 -> 0.14487648 | P32: =P29/P31 -> 0.13833125 | R32: =R29/R31 -> 0.13156812 | T32: =T29/T31 -> 0.14033777 | V32: =V29/V31 -> 0.14154955 | X32: =X29/X31 -> 0.14310228 | Z32: =Z29/Z31 -> 0.16643859 | AB32: =AB29/AB31 -> 0.17203965
B33: Growth (%)
B34: BioThrax | F34: =F14/D14-1 -> 0.13376684 | H34: =H14/F14-1 -> 0.0073945104 | J34: =J14/H14-1 -> 0.1952624 | L34: =L14/J14-1 -> -0.19355881 | N34: 0.2 | P34: 0.1 | R34: 0.1 | T34: 0.1 | V34: -0.5 | X34: -0.5 | Z34: -1 | AB34: 0 | AD34: 0
B35: Other | F35: =F18/D18-1 -> 24.091575 | H35: =H18/F18-1 -> 1.6233577 | J35: =J18/H18-1 -> -0.024819143 | L35: =L18/J18-1 -> 0.69048163 | N35: 0 | P35: 0 | R35: 0 | T35: 0 | V35: 0 | X35: 0 | Z35: 0 | AB35: 0 | AD35: 0
B36: NuThrax | T36: 0 | V36: 0.2 | X36: 0.2 | Z36: 0.2 | AB36: 0.1 | AD36: 0.1
B37: ACAM2000
B38: Anthrasil
B39: Raxibacumab
B40: BAT
B41: VIGIV
B42: RSDL | P42: 0.1 | R42: 0.1 | T42: 0.05 | V42: 0.05 | X42: 0.05 | Z42: 0.05 | AB42: 0.05 | AD42: 0.05
...

Sheet BS Modelling
B1: EMERGENT BIOSOLUTIONS INC.
D3: 2012 | F3: 2013 | H3: 2014 | J3: 2015 | L3: 2016 | N3: 2017F | P3: 2018F | R3: 2019F | T3: 2020F | V3: 2021F | X3: 2022F | Z3: 2023F | AB3: 2024F | AD3: 2025F
B5: 1. Working Capital
B6: 2. Debt Schedule
B7: 3. Equity and Stock-based Compensation
A9: 1 | B9: Working Capital
B10: AR Turnover | D10: ='Financial Statements'!D10/'Financial Statements'!D131 -> 2.8941412 | F10: ='Financial Statements'!F10/'Financial Statements'!F131 -> 5.1619159 | H10: ='Financial Statements'!H10/'Financial Statements'!H131 -> 6.8746983 | J10: ='Financial Statements'!J10/'Financial Statements'!J131 -> 4.2959194 | L10: ='Financial Statements'!L10/'Financial Statements'!L131 -> 3.5296726 | N10: =365/N14 -> 4.163875 | P10: =365/P14 -> 4.163875 | R10: =365/R14 -> 4.163875 | T10: =365/T14 -> 4.163875 | V10: =365/V14 -> 4.163875 | X10: =365/X14 -> 4.163875 | Z10: =365/Z14 -> 4.163875 | AB10: =365/AB14 -> 4.163875 | AD10: =365/AD14 -> 4.163875
B11: Inventory Turnover | D11: ='Financial Statements'!D13/'Financial Statements'!D132 -> 3.0391795 | F11: ='Financial Statements'!F13/'Financial Statements'!F132 -> 4.2427781 | H11: ='Financial Statements'!H13/'Financial Statements'!H132 -> 1.5525627 | J11: ='Financial Statements'!J13/'Financial Statements'!J132 -> 1.7653358 | L11: ='Financial Statements'!L13/'Financial Statements'!L132 -> 1.7740602 | N11: =365/N15 -> 1.7740602 | P11: =365/P15 -> 1.7740602 | R11: =365/R15 -> 1.7740602 | T11: =365/T15 -> 1.7740602 | V11: =365/V15 -> 1.7740602 | X11: =365/X15 -> 1.7740602 | Z11: =365/Z15 -> 1.7740602 | AB11: =365/AB15 -> 1.7740602 | AD11: =365/AD15 -> 1.7740602
B12: AP Turnover | D12: ='Financial Statements'!D13/'Financial Statements'!D150 -> 1.4722497 | F12: ='Financial Statements'!F13/'Financial Statements'!F150 -> 2.2574398 | H12: ='Financial Statements'!H13/'Financial Statements'!H150 -> 2.4911556 | J12: ='Financial Statements'!J13/'Financial Statements'!J150 -> 2.8308138 | L12: ='Financial Statements'!L13/'Financial Statements'!L150 -> 3.7889694 | N12: =365/N16 -> 2.9452205 | P12: =365/P16 -> 2.9452205 | R12: =365/R16 -> 2.9452205 | T12: =365/T16 -> 2.9452205 | V12: =365/V16 -> 2.9452205 | X12: =365/X16 -> 2.9452205 | Z12: =365/Z16 -> 2.9452205 | AB12: =365/AB16 -> 2.9452205 | AD12: =365/AD16 -> 2.9452205
B14: Days of Sales Outstanding | D14: =365/D10 -> 126.11686 | F14: =365/F10 -> 70.710179 | H14: =365/H10 -> 53.093239 | J14: =365/J10 -> 84.964349 | L14: =365/L10 -> 103.40902 | N14: =AVERAGE($D$14:$L$14) -> 87.658731 | P14: =AVERAGE($D$14:$L$14) -> 87.658731 | R14: =AVERAGE($D$14:$L$14) -> 87.658731 | T14: =AVERAGE($D$14:$L$14) -> 87.658731 | V14: =AVERAGE($D$14:$L$14) -> 87.658731 | X14: =AVERAGE($D$14:$L$14) -> 87.658731 | Z14: =AVERAGE($D$14:$L$14) -> 87.658731 | AB14: =AVERAGE($D$14:$L$14) -> 87.658731 | AD14: =AVERAGE($D$14:$L$14) -> 87.658731
B15: Days of Inventory Turnover | D15: =365/D11 -> 120.09821 | F15: =365/F11 -> 86.028538 | H15: =365/H11 -> 235.09518 | J15: =365/J11 -> 206.75953 | L15: =365/L11 -> 205.74274 | N15: =L15 -> 205.74274 | P15: =N15 -> 205.74274 | R15: =P15 -> 205.74274 | T15: =R15 -> 205.74274 | V15: =T15 -> 205.74274 | X15: =V15 -> 205.74274 | Z15: =X15 -> 205.74274 | AB15: =Z15 -> 205.74274 | AD15: =AB15 -> 205.74274
B16: Days of AP Turnover | D16: =365/D12 -> 247.91989 | F16: =365/F12 -> 161.68759 | H16: =365/H12 -> 146.51834 | J16: =365/J12 -> 128.93819 | L16: =365/L12 -> 96.332264 | N16: =AVERAGE($H$16:$L$16) -> 123.9296 | P16: =AVERAGE($H$16:$L$16) -> 123.9296 | R16: =AVERAGE($H$16:$L$16) -> 123.9296 | T16: =AVERAGE($H$16:$L$16) -> 123.9296 | V16: =AVERAGE($H$16:$L$16) -> 123.9296 | X16: =AVERAGE($H$16:$L$16) -> 123.9296 | Z16: =AVERAGE($H$16:$L$16) -> 123.9296 | AB16: =AVERAGE($H$16:$L$16) -> 123.9296 | AD16: =AVERAGE($H$16:$L$16) -> 123.9296
B18: As % of Revenue
B19: Deferred Tax Assets | D19: ='Financial Statements'!D133/'Financial Statements'!D$10 -> 0.0045473842 | F19: ='Financial Statements'!F133/'Financial Statements'!F$10 -> 0 | H19: ='Financial Statements'!H133/'Financial Statements'!H$10 -> 0.0042277967 | J19: ='Financial Statements'!J133/'Financial Statements'!J$10 -> 0 | L19: ='Financial Statements'!L133/'Financial Statements'!L$10 -> 0 | N19: =L19 -> 0 | P19: =N19 -> 0 | R19: =P19 -> 0 | T19: =R19 -> 0 | V19: =T19 -> 0 | X19: =V19 -> 0 | Z19: =X19 -> 0 | AB19: =Z19 -> 0 | AD19: =AB19 -> 0
B20: Income Tax Receivable, Net | D20: ='Financial Statements'!D134/'Financial Statements'!D$10 -> 0 | F20: ='Financial Statements'!F134/'Financial Statements'!F$10 -> 0.018069034 | H20: ='Financial Statements'!H134/'Financial Statements'!H$10 -> 0.003355041 | J20: ='Financial Statements'!J134/'Financial Statements'!J$10 -> 0.013432625 | L20: ='Financial Statements'!L134/'Financial Statements'!L$10 -> 0.020450835 | N20: =AVERAGE($F$20:$L$20) -> 0.013826884 | P20: =AVERAGE($F$20:$L$20) -> 0.013826884 | R20: =AVERAGE($F$20:$L$20) -> 0.013826884 | T20: =AVERAGE($F$20:$L$20) -> 0.013826884 | V20: =AVERAGE($F$20:$L$20) -> 0.013826884 | X20: =AVERAGE($F$20:$L$20) -> 0.013826884 | Z20: =AVERAGE($F$20:$L$20) -> 0.013826884 | AB20: =AVERAGE($F$20:$L$20) -> 0.013826884 | AD20: =AVERAGE($F$20:$L$20) -> 0.013826884
B21: Prepaid Expenses and Other Current assets | D21: ='Financial Statements'!D135/'Financial Statements'!D$10 -> 0.033144818 | F21: ='Financial Statements'!F135/'Financial Statements'!F$10 -> 0.041234872 | H21: ='Financial Statements'!H135/'Financial Statements'!H$10 -> 0.059587209 | J21: ='Financial Statements'!J135/'Financial Statements'!J$10 -> 0.037720888 | L21: ='Financial Statements'!L135/'Financial Statements'!L$10 -> 0.033202941 | N21: =AVERAGE($D$21:$L$21) -> 0.040978146 | P21: =AVERAGE($D$21:$L$21) -> 0.040978146 | R21: =AVERAGE($D$21:$L$21) -> 0.040978146 | T21: =AVERAGE($D$21:$L$21) -> 0.040978146 | V21: =AVERAGE($D$21:$L$21) -> 0.040978146 | X21: =AVERAGE($D$21:$L$21) -> 0.040978146 | Z21: =AVERAGE($D$21:$L$21) -> 0.040978146 | AB21: =AVERAGE($D$21:$L$21) -> 0.040978146 | AD21: =AVERAGE($D$21:$L$21) -> 0.040978146
B22: Current Assets of Discontinued Operations | D22: ='Financial Statements'!D136/'Financial Statements'!D$10 -> 0 | F22: ='Financial Statements'!F136/'Financial Statements'!F$10 -> 0 | H22: ='Financial Statements'!H136/'Financial Statements'!H$10 -> 0 | J22: ='Financial Statements'!J136/'Financial Statements'!J$10 -> 0.059840885 | L22: ='Financial Statements'!L136/'Financial Statements'!L$10 -> 0 | N22: 0 | P22: 0 | R22: 0 | T22: 0 | V22: 0 | X22: 0 | Z22: 0 | AB22: 0 | AD22: 0
B23: In-process Research and Development | D23: ='Financial Statements'!D140/'Financial Statements'!D10 -> 0.15038027 | F23: ='Financial Statements'!F140/'Financial Statements'!F10 -> 0.13365521 | H23: ='Financial Statements'!H140/'Financial Statements'!H10 -> 0.19235239 | J23: ='Financial Statements'!J140/'Financial Statements'!J10 -> 0.0014325681 | L23: ='Financial Statements'!L140/'Financial Statements'!L10 -> 0 | N23: 0 | P23: 0 | R23: 0 | T23: 0 | V23: 0 | X23: 0 | Z23: 0 | AB23: 0 | AD23: 0
B24: Deferred Tax Assets, Net | D24: ='Financial Statements'!D143/'Financial Statements'!D$10 -> 0.039886747 | F24: ='Financial Statements'!F143/'Financial Statements'!F$10 -> 0 | H24: ='Financial Statements'!H143/'Financial Statements'!H$10 -> 0.031557659 | J24: ='Financial Statements'!J143/'Financial Statements'!J$10 -> 0.023064143 | L24: ='Financial Statements'!L143/'Financial Statements'!L$10 -> 0.012471818 | N24: =AVERAGE($H$24:$L$24) -> 0.02236454 | P24: =AVERAGE($H$24:$L$24) -> 0.02236454 | R24: =AVERAGE($H$24:$L$24) -> 0.02236454 | T24: =AVERAGE($H$24:$L$24) -> 0.02236454 | V24: =AVERAGE($H$24:$L$24) -> 0.02236454 | X24: =AVERAGE($H$24:$L$24) -> 0.02236454 | Z24: =AVERAGE($H$24:$L$24) -> 0.02236454 | AB24: =AVERAGE($H$24:$L$24) -> 0.02236454 | AD24: =AVERAGE($H$24:$L$24) -> 0.02236454
B25: Other Assets | D25: ='Financial Statements'!D144/'Financial Statements'!D$10 -> 0.0026262583 | F25: ='Financial Statements'!F144/'Financial Statements'!F$10 -> 0.010785144 | H25: ='Financial Statements'!H144/'Financial Statements'!H$10 -> 0.020313203 | J25: ='Financial Statements'!J144/'Financial Statements'!J$10 -> 0.004403972 | L25: ='Financial Statements'!L144/'Financial Statements'!L$10 -> 0.0050799743 | N25: =AVERAGE($D$25:$L$25) -> 0.0086417104 | P25: =AVERAGE($D$25:$L$25) -> 0.0086417104 | R25: =AVERAGE($D$25:$L$25) -> 0.0086417104 | T25: =AVERAGE($D$25:$L$25) -> 0.0086417104 | V25: =AVERAGE($D$25:$L$25) -> 0.0086417104 | X25: =AVERAGE($D$25:$L$25) -> 0.0086417104 | Z25: =AVERAGE($D$25:$L$25) -> 0.0086417104 | AB25: =AVERAGE($D$25:$L$25) -> 0.0086417104 | AD25: =AVERAGE($D$25:$L$25) -> 0.0086417104
B26: Non-current Assets of Discontinued Operations | D26: ='Financial Statements'!D145/'Financial Statements'!D$10 -> 0 | F26: ='Financial Statements'!F145/'Financial Statements'!F$10 -> 0 | H26: ='Financial Statements'!H145/'Financial Statements'!H$10 -> 0 | J26: ='Financial Statements'!J145/'Financial Statements'!J$10 -> 0.15606001 | L26: ='Financial Statements'!L145/'Financial Statements'!L$10 -> 0 | N26: 0 | P26: 0 | R26: 0 | T26: 0 | V26: 0 | X26: 0 | Z26: 0 | AB26: 0 | AD26: 0
B28: Accrued Expenses and Other Current Liabilities | D28: ='Financial Statements'!D151/'Financial Statements'!D$10 -> 0.0053532497 | F28: ='Financial Statements'!F151/'Financial Statements'!F$10 -> 0.0040032614 | H28: ='Financial Statements'!H151/'Financial Statements'!H$10 -> 0.015511811 | J28: ='Financial Statements'!J151/'Financial Statements'!J$10 -> 0.012684665 | L28: ='Financial Statements'!L151/'Financial Statements'!L$10 -> 0.013028303 | N28: =AVERAGE($H$28:$L$28) -> 0.013741593 | P28: =AVERAGE($H$28:$L$28) -> 0.013741593 | R28: =AVERAGE($H$28:$L$28) -> 0.013741593 | T28: =AVERAGE($H$28:$L$28) -> 0.013741593 | V28: =AVERAGE($H$28:$L$28) -> 0.013741593 | X28: =AVERAGE($H$28:$L$28) -> 0.013741593 | Z28: =AVERAGE($H$28:$L$28) -> 0.013741593 | AB28: =AVERAGE($H$28:$L$28) -> 0.013741593 | AD28: =AVERAGE($H$28:$L$28) -> 0.013741593
B29: Accrued Compensation | D29: ='Financial Statements'!D152/'Financial Statements'!D$10 -> 0.081759377 | F29: ='Financial Statements'!F152/'Financial Statements'!F$10 -> 0.078706294 | H29: ='Financial Statements'!H152/'Financial Statements'!H$10 -> 0.078261214 | J29: ='Financial Statements'!J152/'Financial Statements'!J$10 -> 0.06539132 | L29: ='Financial Statements'!L152/'Financial Statements'!L$10 -> 0.070659312 | N29: =AVERAGE($D$29:$L$29) -> 0.074955503 | P29: =AVERAGE($D$29:$L$29) -> 0.074955503 | R29: =AVERAGE($D$29:$L$29) -> 0.074955503 | T29: =AVERAGE($D$29:$L$29) -> 0.074955503 | V29: =AVERAGE($D$29:$L$29) -> 0.074955503 | X29: =AVERAGE($D$29:$L$29) -> 0.074955503 | Z29: =AVERAGE($D$29:$L$29) -> 0.074955503 | AB29: =AVERAGE($D$29:$L$29) -> 0.074955503 | AD29: =AVERAGE($D$29:$L$29) -> 0.074955503
B30: Notes Payable | D30: ='Financial Statements'!D153/'Financial Statements'!D$10 -> 0 | F30: ='Financial Statements'!F153/'Financial Statements'!F$10 -> 0 | H30: ='Financial Statements'!H153/'Financial Statements'!H$10 -> 0 | J30: ='Financial Statements'!J153/'Financial Statements'!J$10 -> 0 | L30: ='Financial Statements'!L153/'Financial Statements'!L$10 -> 0.040918037 | N30: 0 | P30: 0 | R30: 0 | T30: 0 | V30: 0 | X30: 0 | Z30: 0 | AB30: 0 | AD30: 0
B31: Contingent Consideration, Current Portion | D31: ='Financial Statements'!D154/'Financial Statements'!D$10 -> 0 | F31: ='Financial Statements'!F154/'Financial Statements'!F$10 -> 0.0042878383 | H31: ='Financial Statements'!H154/'Financial Statements'!H$10 -> 0.016038431 | J31: ='Financial Statements'!J154/'Financial Statements'!J$10 -> 0.0043099661 | L31: ='Financial Statements'!L154/'Financial Statements'!L$10 -> 0.0066819155 | N31: =AVERAGE($D$31:$L$31) -> 0.0062636302 | P31: =AVERAGE($D$31:$L$31) -> 0.0062636302 | R31: =AVERAGE($D$31:$L$31) -> 0.0062636302 | T31: =AVERAGE($D$31:$L$31) -> 0.0062636302 | V31: =AVERAGE($D$31:$L$31) -> 0.0062636302 | X31: =AVERAGE($D$31:$L$31) -> 0.0062636302 | Z31: =AVERAGE($D$31:$L$31) -> 0.0062636302 | AB31: =AVERAGE($D$31:$L$31) -> 0.0062636302 | AD31: =AVERAGE($D$31:$L$31) -> 0.0062636302
B32: Income Tax Payable | D32: ='Financial Statements'!D155/'Financial Statements'!D$10 -> 0.00041372562 | F32: ='Financial Statements'!F155/'Financial Statements'!F$10 -> 0 | H32: ='Financial Statements'!H155/'Financial Statements'!H$10 -> 0 | J32: ='Financial Statements'!J155/'Financial Statements'!J$10 -> 0 | L32: ='Financial Statements'!L155/'Financial Statements'!L$10 -> 0 | N32: 0 | P32: 0 | R32: 0 | T32: 0 | V32: 0 | X32: 0 | Z32: 0 | AB32: 0 | AD32: 0
B33: Provision for Chargebacks | D33: ='Financial Statements'!D156/'Financial Statements'!D$10 -> 0 | F33: ='Financial Statements'!F156/'Financial Statements'!F$10 -> 0 | H33: ='Financial Statements'!H156/'Financial Statements'!H$10 -> 0.0055530007 | J33: ='Financial Statements'!J156/'Financial Statements'!J$10 -> 0 | L33: ='Financial Statements'!L156/'Financial Statements'!L$10 -> 0 | N33: 0 | P33: 0 | R33: 0 | T33: 0 | V33: 0 | X33: 0 | Z33: 0 | AB33: 0 | AD33: 0
B34: Deferred Tax Liabilities, Net | D34: ='Financial Statements'!D157/'Financial Statements'!D$10 -> 0 | F34: ='Financial Statements'!F157/'Financial Statements'!F$10 -> 0.0002813794 | H34: ='Financial Statements'!H157/'Financial Statements'!H$10 -> 0 | J34: ='Financial Statements'!J157/'Financial Statements'!J$10 -> 0 | L34: ='Financial Statements'!L157/'Financial Statements'!L$10 -> 0 | N34: 0 | P34: 0 | R34: 0 | T34: 0 | V34: 0 | X34: 0 | Z34: 0 | AB34: 0 | AD34: 0
B35: Deferred Revenue, Current Portion | D35: ='Financial Statements'!D158/'Financial Statements'!D$10 -> 0.0065152791 | F35: ='Financial Statements'!F158/'Financial Statements'!F$10 -> 0.0058642025 | H35: ='Financial Statements'!H158/'Financial Statements'!H$10 -> 0.013214955 | J35: ='Financial Statements'!J158/'Financial Statements'!J$10 -> 0.0081315102 | L35: ='Financial Statements'!L158/'Financial Statements'!L$10 -> 0.014394965 | N35: =AVERAGE($D$35:$L$35) -> 0.0096241824 | P35: =AVERAGE($D$35:$L$35) -> 0.0096241824 | R35: =AVERAGE($D$35:$L$35) -> 0.0096241824 | T35: =AVERAGE($D$35:$L$35) -> 0.0096241824 | V35: =AVERAGE($D$35:$L$35) -> 0.0096241824 | X35: =AVERAGE($D$35:$L$35) -> 0.0096241824 | Z35: =AVERAGE($D$35:$L$35) -> 0.0096241824 | AB35: =AVERAGE($D$35:$L$35) -> 0.0096241824 | AD35: =AVERAGE($D$35:$L$35) -> 0.0096241824
B36: Current Liabilities of Discontinued Operations | D36: ='Financial Statements'!D160/'Financial Statements'!D$10 -> 0 | F36: ='Financial Statements'!F160/'Financial Statements'!F$10 -> 0 | H36: ='Financial Statements'!H160/'Financial Statements'!H$10 -> 0 | J36: ='Financial Statements'!J160/'Financial Statements'!J$10 -> 0.035452485 | L36: ='Financial Statements'!L160/'Financial Statements'!L$10 -> 0 | N36: 0 | P36: 0 | R36: 0 | T36: 0 | V36: 0 | X36: 0 | Z36: 0 | AB36: 0 | AD36: 0
B38: Contingent Consideration, Net of Current Portion | D38: ='Financial Statements'!D163/'Financial Statements'!D$10 -> 0 | F38: ='Financial Statements'!F163/'Financial Statements'!F$10 -> 0.048851301 | H38: ='Financial Statements'!H163/'Financial Statements'!H$10 -> 0.10178853 | J38: ='Financial Statements'!J163/'Financial Statements'!J$10 -> 0.047096955 | L38: ='Financial Statements'!L163/'Financial Statements'!L$10 -> 0.0202933 | N38: =AVERAGE($J$38:$L$38) -> 0.033695128 | P38: =AVERAGE($J$38:$L$38) -> 0.033695128 | R38: =AVERAGE($J$38:$L$38) -> 0.033695128 | T38: =AVERAGE($J$38:$L$38) -> 0.033695128 | V38: =AVERAGE($J$38:$L$38) -> 0.033695128 | X38: =AVERAGE($J$38:$L$38) -> 0.033695128 | Z38: =AVERAGE($J$38:$L$38) -> 0.033695128 | AB38: =AVERAGE($J$38:$L$38) -> 0.033695128 | AD38: =AVERAGE($J$38:$L$38) -> 0.033695128
B39: Deferred Revenue, Net of Current Portion | D39: ='Financial Statements'!D165/'Financial Statements'!D$10 -> 0 | F39: ='Financial Statements'!F165/'Financial Statements'!F$10 -> 0 | H39: ='Financial Statements'!H165/'Financial Statements'!H$10 -> 0.014124797 | J39: ='Financial Statements'!J165/'Financial Statements'!J$10 -> 0.0070013958 | L39: ='Financial Statements'!L165/'Financial Statements'!L$10 -> 0.01725309 | N39: =AVERAGE($H$39:$L$39) -> 0.012793094 | P39: =AVERAGE($H$39:$L$39) -> 0.012793094 | R39: =AVERAGE($H$39:$L$39) -> 0.012793094 | T39: =AVERAGE($H$39:$L$39) -> 0.012793094 | V39: =AVERAGE($H$39:$L$39) -> 0.012793094 | X39: =AVERAGE($H$39:$L$39) -> 0.012793094 | Z39: =AVERAGE($H$39:$L$39) -> 0.012793094 | AB39: =AVERAGE($H$39:$L$39) -> 0.012793094 | AD39: =AVERAGE($H$39:$L$39) -> 0.012793094
B40: Deferred Tax Liability, Net | D40: ='Financial Statements'!D166/'Financial Statements'!D$10 -> 0 | F40: ='Financial Statements'!F166/'Financial Statements'!F$10 -> 0.0045372428 | H40: ='Financial Statements'!H166/'Financial Statements'!H$10 -> 0 | J40: ='Financial Statements'!J166/'Financial Statements'!J$10 -> 0 | L40: ='Financial Statements'!L166/'Financial Statements'!L$10 -> 0 | N40: 0 | P40: 0 | R40: 0 | T40: 0 | V40: 0 | X40: 0 | Z40: 0 | AB40: 0 | AD40: 0
B41: Other Liabilities | D41: ='Financial Statements'!D167/'Financial Statements'!D$10 -> 0.0068030882 | F41: ='Financial Statements'!F167/'Financial Statements'!F$10 -> 0.006769093 | H41: ='Financial Statements'!H167/'Financial Statements'!H$10 -> 0.0030707155 | J41: ='Financial Statements'!J167/'Financial Statements'!J$10 -> 0.0025708569 | L41: ='Financial Statements'!L167/'Financial Statements'!L$10 -> 0.0032816266 | N41: =AVERAGE($D$41:$L$41) -> 0.004499076 | P41: =AVERAGE($D$41:$L$41) -> 0.004499076 | R41: =AVERAGE($D$41:$L$41) -> 0.004499076 | T41: =AVERAGE($D$41:$L$41) -> 0.004499076 | V41: =AVERAGE($D$41:$L$41) -> 0.004499076 | X41: =AVERAGE($D$41:$L$41) -> 0.004499076 | Z41: =AVERAGE($D$41:$L$41) -> 0.004499076 | AB41: =AVERAGE($D$41:$L$41) -> 0.004499076 | AD41: =AVERAGE($D$41:$L$41) -> 0.004499076
B42: Non-current Liabilities of Discontinued Operations | D42: ='Financial Statements'!D168/'Financial Statements'!D$10 -> 0 | F42: ='Financial Statements'!F168/'Financial Statements'!F$10 -> 0 | H42: ='Financial Statements'!H168/'Financial Statements'!H$10 -> 0 | J42: ='Financial Statements'!J168/'Financial Statements'!J$10 -> 0.0066090233 | L42: ='Financial Statements'!L168/'Financial Statements'!L$10 -> 0 | N42: 0 | P42: 0 | R42: 0 | T42: 0 | V42: 0 | X42: 0 | Z42: 0 | AB42: 0 | AD42: 0
A45: 2 | B45: Debt Schedule
B46: Debt as % of Revenue
B47: Current Portion | D47: ='Financial Statements'!D159/'Financial Statements'!D$10 -> 0.016081335 | F47: ='Financial Statements'!F159/'Financial Statements'!F$10 -> 0 | H47: ='Financial Statements'!H159/'Financial Statements'!H$10 -> 0 | J47: ='Financial Statements'!J159/'Financial Statements'!J$10 -> 0 | L47: ='Financial Statements'!L159/'Financial Statements'!L$10 -> 0 | N47: ='Financial Statements'!N159/'Financial Statements'!N$10 -> 0 | P47: ='Financial Statements'!P159/'Financial Statements'!P$10 -> 0 | R47: ='Financial Statements'!R159/'Financial Statements'!R$10 -> 0 | T47: ='Financial Statements'!T159/'Financial Statements'!T$10 -> 0.23936848 | V47: ='Financial Statements'!V159/'Financial Statements'!V$10 -> 0 | X47: ='Financial Statements'!X159/'Financial Statements'!X$10 -> 0 | Z47: ='Financial Statements'!Z159/'Financial Statements'!Z$10 -> 0 | AB47: ='Financial Statements'!AB159/'Financial Statements'!AB$10 -> 0 | AD47: ='Financial Statements'!AD159/'Financial Statements'!AD$10 -> 0
B48: Non-Current Portion | D48: ='Financial Statements'!D164/'Financial Statements'!D$10 -> 0.20975529 | F48: ='Financial Statements'!F164/'Financial Statements'!F$10 -> 0.19824458 | H48: ='Financial Statements'!H164/'Financial Statements'!H$10 -> 0.62057132 | J48: ='Financial Statements'!J164/'Financial Statements'!J$10 -> 0.50455009 | L48: ='Financial Statements'!L164/'Financial Statements'!L$10 -> 0.50757597 | N48: ='Financial Statements'!N164/'Financial Statements'!N$10 -> 0.44331529 | P48: ='Financial Statements'!P164/'Financial Statements'!P$10 -> 0.32560554 | R48: ='Financial Statements'!R164/'Financial Statements'!R$10 -> 0.25807201 | T48: ='Financial Statements'!T164/'Financial Statements'!T$10 -> 0 | V48: ='Financial Statements'!V164/'Financial Statements'!V$10 -> 0.35387667 | X48: ='Financial Statements'!X164/'Financial Statements'!X$10 -> 0.32523502 | Z48: ='Financial Statements'!Z164/'Financial Statements'!Z$10 -> 0.3438841 | AB48: ='Financial Statements'!AB164/'Financial Statements'!AB$10 -> 0.33853013 | AD48: ='Financial Statements'!AD164/'Financial Statements'!AD$10 -> 0.33178559
B49: Total Debt | D49: =SUM(D48,D47) -> 0.22583663 | F49: =SUM(F48,F47) -> 0.19824458 | H49: =SUM(H48,H47) -> 0.62057132 | J49: =SUM(J48,J47) -> 0.50455009 | L49: =SUM(L48,L47) -> 0.50757597 | N49: =SUM(N48,N47) -> 0.44331529 | P49: =SUM(P48,P47) -> 0.32560554 | R49: =SUM(R48,R47) -> 0.25807201 | T49: =SUM(T48,T47) -> 0.23936848 | V49: =SUM(V48,V47) -> 0.35387667 | X49: =SUM(X48,X47) -> 0.32523502 | Z49: =SUM(Z48,Z47) -> 0.3438841 | AB49: =SUM(AB48,AB47) -> 0.33853013 | AD49: =SUM(AD48,AD47) -> 0.33178559
...

Sheet Valuation
B1: EMERGENT BIOSOLUTIONS INC.
B3: In Thousands USD | D3: 2017F | F3: 2018F | H3: 2019F | J3: 2020F | L3: 2021F | N3: 2022F | P3: 2023F | R3: 2024F | T3: 2025F | V3: Terminal Value
B4: EBITDA * (1-Tax) | D4: ='Financial Statements'!N21*(1-'IS Modelling'!N133) -> 117113.6 | F4: ='Financial Statements'!P21*(1-'IS Modelling'!P133) -> 162508.56 | H4: ='Financial Statements'!R21*(1-'IS Modelling'!R133) -> 204756.94 | J4: ='Financial Statements'!T21*(1-'IS Modelling'!T133) -> 216567.81 | L4: ='Financial Statements'!V21*(1-'IS Modelling'!V133) -> 71375.139 | N4: ='Financial Statements'!X21*(1-'IS Modelling'!X133) -> 245741.61 | P4: ='Financial Statements'!Z21*(1-'IS Modelling'!Z133) -> 213805.37 | R4: ='Financial Statements'!AB21*(1-'IS Modelling'!AB133) -> 211553.39 | T4: ='Financial Statements'!AD21*(1-'IS Modelling'!AD133) -> 212217.25
B5: + Stock Based Compensation | D5: ='Financial Statements'!N15 -> 6337.0612 | F5: ='Financial Statements'!P15 -> 6337.0612 | H5: ='Financial Statements'!R15 -> 6337.0612 | J5: ='Financial Statements'!T15 -> 6337.0612 | L5: ='Financial Statements'!V15 -> 248094 | N5: ='Financial Statements'!X15 -> 0 | P5: ='Financial Statements'!Z15 -> 0 | R5: ='Financial Statements'!AB15 -> 0 | T5: ='Financial Statements'!AD15 -> 0
B6: + Depreciation and Amortization * Tax | D6: ='Financial Statements'!N16*'IS Modelling'!N133 -> 10626.573 | F6: ='Financial Statements'!P16*'IS Modelling'!P133 -> 11595.674 | H6: ='Financial Statements'!R16*'IS Modelling'!R133 -> 12615.521 | J6: ='Financial Statements'!T16*'IS Modelling'!T133 -> 13918.945 | L6: ='Financial Statements'!V16*'IS Modelling'!V133 -> 14951.651 | N6: ='Financial Statements'!X16*'IS Modelling'!X133 -> 15247.924 | P6: ='Financial Statements'!Z16*'IS Modelling'!Z133 -> 16312.798 | R6: ='Financial Statements'!AB16*'IS Modelling'!AB133 -> 16441.773 | T6: ='Financial Statements'!AD16*'IS Modelling'!AD133 -> 17464.825
B7: - Change in Working Capital | D7: ='Financial Statements'!L185-'Financial Statements'!N185 -> 12613.162 | F7: ='Financial Statements'!N185-'Financial Statements'!P185 -> -50696.697 | H7: ='Financial Statements'!P185-'Financial Statements'!R185 -> -49964.15 | J7: ='Financial Statements'!R185-'Financial Statements'!T185 -> -18822.937 | L7: ='Financial Statements'!T185-'Financial Statements'!V185 -> -23526.208 | N7: ='Financial Statements'!V185-'Financial Statements'!X185 -> -24943.892 | P7: ='Financial Statements'!X185-'Financial Statements'!Z185 -> 16713.347 | R7: ='Financial Statements'!Z185-'Financial Statements'!AB185 -> -4609.7983 | T7: ='Financial Statements'!AB185-'Financial Statements'!AD185 -> -6018.8407
B8: - Capital Expenditure | D8: =-'IS Modelling'!N111 -> -55963.33 | F8: =-'IS Modelling'!P111 -> -68575.184 | H8: =-'IS Modelling'!R111 -> -76906.907 | J8: =-'IS Modelling'!T111 -> -72551.657 | L8: =-'IS Modelling'!V111 -> -67820.238 | N8: =-'IS Modelling'!X111 -> -61493.992 | P8: =-'IS Modelling'!Z111 -> -58159.129 | R8: =-'IS Modelling'!AB111 -> -59078.936 | T8: =-'IS Modelling'!AD111 -> -60279.893
B9: Free Cash Flow to the Firm | D9: =SUM(D4:D8) -> 90727.066 | F9: =SUM(F4:F8) -> 61169.414 | H9: =SUM(H4:H8) -> 96838.464 | J9: =SUM(J4:J8) -> 145449.22 | L9: =SUM(L4:L8) -> 243074.34 | N9: =SUM(N4:N8) -> 174551.65 | P9: =SUM(P4:P8) -> 188672.39 | R9: =SUM(R4:R8) -> 164306.43 | T9: =SUM(T4:T8) -> 163383.35 | V9: =T9*(1+D27)/(D28-D27) -> 2764988
B10: Growth | F10: =F9/D9-1 -> -0.32578649 | H10: =H9/F9-1 -> 0.58311904 | J10: =J9/H9-1 -> 0.50197777 | L10: =L9/J9-1 -> 0.67119731 | N10: =N9/L9-1 -> -0.28190014 | P10: =P9/N9-1 -> 0.080897186 | R10: =R9/P9-1 -> -0.12914426 | T10: =T9/R9-1 -> -0.0056180771
B12: Period | D12: 0 | F12: 1 | H12: 2 | J12: 3 | L12: 4 | N12: 5 | P12: 6 | R12: 7 | T12: 8 | V12: 8
